BEGIN:VCALENDAR
VERSION:2.0
PRODID:-//kirjastotfi/procal//NONSGML v1.0//EN
BEGIN:VEVENT
DTSTART:20220412T090000
DTEND:20220412T150000
SUMMARY:Hyvä peliliike: Pelien lajit ja lajityypit ti 12.4.
DESCRIPTION:<p><strong>Hyvä peliliike–PiKen pelikulttuuri nextille levelille -hanke nostaa kirjastojen peliosaamisen uudelle tasolle. Hankkeen tavoitteena on edistää peliosaamista alueella, kehittää yhteisöllistä pelaamista sekä pelillisiä palveluita ja lisätä pelikulttuuritietoisuutta alueen kirjastoissa. Kevään pelitapahtumissa tutustutaan rooli- ja lautapeleihin kirjastoaineistoina, pohditaan pelivinkkausta ja piipahdetaan pimeydessä.</strong></p>

<p>Pelien lajit ja lajityypit pureutuu käytännön peliosaamisen ja -tietouden laajentamiseen. Tutkija ja kirjailija <a href="https://fi.wikipedia.org/wiki/Markku_Soikkeli">Markku Soikkeli</a> johdattaa kuulijat tutustumaan pelien lajityyppeihin esimerkiksi kirjojen ja elokuvien lajityyppien avulla. Gamebrarian <a href="https://twitter.com/heikkikir">Heikki Marjomaa</a> avaa lauta- ja roolipelien maailmaa tietoiskumaisesti lähestyen pelejä erityisesti kirjastoaineistona.</p>

<h2>Aikataulu ja ilmoittautuminen</h2>

<p><strong>Pelien lajit ja lajityypit<br />
Ti&nbsp;12.4.2022<br />
Klo 9.00–15.00<br />
Teams</strong></p>

<p><a href="https://elomake.tampere.fi/lomakkeet/25392/lomake.html">Ilmoittaudu tällä lomakkeella 9.4. mennessä.</a></p>

<h2>Ohjelma</h2>

<h3>Klo 9.00–11.00 Pelien vinkkaus ja lajityypit</h3>

<p>Klo 9.00–9.45 Lajien merkitys peleissä (perusteita, esimerkkejä, keskustelua) / Markku Soikkeli, tutkija ja kirjailija</p>

<p>Klo 9.45–10.00 Tauko</p>

<p>Klo 10.00–11.00 Työpaja, lajikohtaiset suosituslistat / Markku Soikkeli, tutkija ja kirjailija</p>

<p>Klo 11.00–13.00 Tauko</p>

<h3>Klo 13.00–15.00 Roolipelit ja lautapelit</h3>

<p>Klo 13.00–13.45 Roolipelit (perusteita, roolipelit kirjastoaineistona, esimerkkejä) / Heikki Marjomaa (Helsingin kaupunginkirjasto)</p>

<p>Klo 13.45–14.00 Tauko</p>

<p>Klo 14.00–15.00 Lautapelit (perusteita, lautapelit kirjastoaineistona, esimerkkejä) / Heikki Marjomaa (Helsingin kaupunginkirjasto)</p>

<p><em>Tilaisuudet järjestetään Teams-alustalla. Esitykset tallennetaan, editoidaan ja tekstitetään PiKen kirjastoklubi -YouTube-kanavalle. Linkit tallenteisiin jaetaan ilmoittautuneille ja tilaisuuksien jälkeen akepiken koulutuskalenterissa.</em></p>

<h2>Lisätiedot, kysymykset ja kommentit</h2>

<p>Pekka Ollikainen<br />
pekka.ollikainen(at)tampere.fi<br />
Tampereen kaupunginkirjasto</p>

LOCATION:Teams
END:VEVENT
END:VCALENDAR