BEGIN:VCALENDAR
VERSION:2.0
PRODID:-//kirjastotfi/procal//NONSGML v1.0//EN
BEGIN:VEVENT
DTSTART:20220414T071500
DTEND:20220414T203000
SUMMARY:Kohteena Fyyri! Oppimisvierailu Kirkkonummen kirjastotaloon to 14.4.
DESCRIPTION:<p><strong>PiKe-oppimisvierailut tulevat taas! Huhtikuussa lähdemme tutustumaan uuteen Kirkkonummen kirjastotalo Fyyriin.</strong></p>

<p>Kirkkonummen uusi kirjastotalo Fyyri on on herättänyt paljon kiinnostusta kirjastoissa, kotimaisessa mediassa ja kansainvälisillä areenoilla. Esimerkiksi Kirjastolehti uutisoi joulukuussa 2021, että <a href="https://suomenkirjastoseura.fi/kirjastolehti/harmoninen-ja-ihana-olo/">Majestettinen Fyyri on matkailuvaltti.</a> Lisäksi Fyyri voitti <a href="https://www.safa.fi/uutiset/arkkitehtuurin-finlandia-palkinnon-2021-saa-kirkkonummen-paakirjasto-fyyri/">arkkitehtuurin Finlandia-palkinnon 2021</a> ja perusteissa todettiin esimerkiksi, että “kirjastojen maa on saanut uuden soihdunkantajan”.</p>

<p><a href="https://www.kirkkonummi.verkkokirjasto.fi/kirkkonummen-kirjastotalo-fyyri">Tietoa, kuvia ja muuta infoa Kirkkonummen kirjastotalo Fyyristä.</a></p>

<h2><strong>Ohjeet ja ilmoittautuminen</strong></h2>

<p>Bussi lähtee matkaan Jyväskylästä. Etenemme Jämsän ja Tampereen pääkirjaston kautta Kirkkonummelle. Paluumatkalla pysähdymme Jämsässä ja Tampereella ennen saapumista takaisin Jyväskylään. <strong>Mukaan mahtuu 30 kirjastolaista Pirkanmaan ja Keski-Suomen kirjastoista.</strong></p>

<p><a href="https://elomake.tampere.fi/lomakkeet/25317/lomake.html">Ilmoittaudu mukaan 7.4. mennessä tällä lomakkeella.</a></p>

<h2><strong>Ohjelma ja matkan aikataulu</strong></h2>

<p>Klo 07.15 Lähtö Jyväskylän pääkirjastolta (Vapaudenkatu 39-41, 40100 Jyväskylä)</p>

<p>Klo 08.15 Pysähtyminen Jämsässä (Shell Jämsä / Kauhkialantie 116, 42100 Jämsä)</p>

<p>Klo 09.45 Pysähtyminen Tampereen pääkirjastolla (Pirkankatu 2, 33210 Tampere)</p>

<p><em>Klo 12.15 Saapuminen Kirkkonummelle</em></p>

<p>Klo 12.15–13.00 Lounas (omakustanteinen)</p>

<p>Lounaspaikkoja lähellä ovat esimerkiksi <a href="https://bistromat.fi/">Bistro O Mat</a> ja <a href="https://ervastiina.fi/">Ervastiina</a></p>

<p>Klo 13.00–15.00 Tutustuminen Kirjastotalo Fyyriin (Kirkkotori 1, 02400 Kirkkonummi)</p>

<p><em>Klo 15.00 Lähtö takaisin Tampereelle</em></p>

<p>Klo 17.30 Pysähtyminen Tampereen pääkirjastolla (Pirkankatu 2, 33210 Tampere)</p>

<p>Klo 19.15 Pysähtyminen Jämsässä (Shell Jämsä / Kauhkialantie 116, 42100 Jämsä)</p>

<p>Klo 20.30 Saapuminen Jyväskylän pääkirjastolle (Vapaudenkatu 39-41, 40100 Jyväskylä)</p>

<p><em>Oppimisvierailun järjestää Tampereen kaupunginkirjasto. Tampereen kaupunginkirjastolla on alueellinen kehittämistehtävä Pirkanmaan ja Keski-Suomen alueella. Kuvat ja tunnelmat somessa, käytä tunnistetta: #akepik</em>e</p>

<h2><strong>Lisätiedot</strong></h2>

<p>Koordinaattori Jarkko Rikkilä<br />
040 800 7828<br />
jarkko.rikkila@tampere.fi</p>

LOCATION:Kirkkonummi
END:VEVENT
END:VCALENDAR