BEGIN:VCALENDAR
VERSION:2.0
PRODID:-//kirjastotfi/procal//NONSGML v1.0//EN
BEGIN:VEVENT
DTSTART:20220428T130000
DTEND:20220428T144500
SUMMARY:Virtuaalimatka Oslon kirjastoihin / Virtuell resa till bibliotek i Oslo
DESCRIPTION:<p><strong>SUOMEKSI:&nbsp;</strong></p>

<p>Vierailemme uusissa kirjastoissa Deichman Björvika ja Lambertseter. Tule&nbsp; mukaan matkalle - tällä kertaa ainoastaan virtuaalisesti!&nbsp;</p>

<p>Deichman Björvika on Oslon kuusikerroksinen pääkirjasto, josta löytyy kirjallisuutta, opiskelupaikkoja, kokoustiloja, esiintymislavoja, elokuvateatteri, pajoja ja ravintola. Kuin norjalainen Oodi toisin sanoen! Mutta mikä on samanlaista ja mikä erilaista?&nbsp;</p>

<p>Deichman Lambertseter on yksi Oslon 22:sta kirjastosta. Uusi ja isokirjasto on osa Nordstrandin kaupunginosataloa. Kirjastossa on runsaasti toimintaa sekä aikuisille että lapsille.&nbsp;</p>

<p>Kirjastojen esittelyt pidetään englanniksi.&nbsp;&nbsp;</p>

<p>Virtuaalimatka järjestetään Teamsissa. Saat linkin ilmoittautumisajan päätyttyä.</p>

<p><strong>Ilmoittaudu viimeistään:</strong> 26.4.2022</p>

<p><strong>PÅ SVENSKA:&nbsp;</strong></p>

<p>Vi besöker Deichman Björvika och Lambertseter nya bibliotek. Kom med på resan – denna gång enbart virtuellt!&nbsp;</p>

<p>Deichman Björvika&nbsp;är Oslos huvudbibliotek med sex våningar med litteratur, studieplatser, mötesrum, scener, biograf, verkstäder och restaurang. Som ett norskt Ode alltså! Men vad är lika och vad är annorlunda?</p>

<p>Deichman Lambertseter är ett av Oslos 22 bibliotek. Det är nytt och stort och en del av Nordstrands stadsdelshus. Biblioteket har många aktiviteter både för barn och vuxna.&nbsp;</p>

<p>Presentationerna av biblioteken går på engelska.&nbsp;<br />
<br />
Den virtuella resan ordnas på Teams. Du får länken efter att anmälningstiden gått ut.</p>

<p><strong>Anmäl dig senast: </strong>26.4.2022</p>

LOCATION:Microsoft Teams
END:VEVENT
END:VCALENDAR