BEGIN:VCALENDAR
VERSION:2.0
PRODID:-//kirjastotfi/procal//NONSGML v1.0//EN
BEGIN:VEVENT
DTSTART:20220504T090000
DTEND:20220504T120000
SUMMARY:Kommunicera mera!
DESCRIPTION:<p>AKE Borgå arrangerar år 2022 en utbildningsserie med namnet Biblioteket kommunicerar, som behandlar kommunikation ur olika perspektiv.</p>

<ul>
	<li>Hur ska man skriva till medier av olika slag?</li>
	<li>Hur ska man påverka och personifiera på sociala medier?</li>
	<li>Hur kan biblioteken kommunicera jämställt och inkluderande och varför är det viktigt?</li>
</ul>

<p>Kommunicera mera är ett webbinarium om kommunikation som är riktat till alla biblioteksanställda, även till dig som inte ser kommunikation som ditt specialområde.</p>

<p>Först behandlas kommunikation ur mediernas synvinkel, varefter vi får tips på hur det lönar sig att kommunicera på sociala medier. Efter det pratar vi mera om bibliotekens synvinkel och hör om Liboppi-kursen Bibliotekets marknadsföring. Vi får också fräscha idéer från Nykarleby bibliotek vad gäller sociala medier och TikTok. Till sist bekantar vi oss med handboken Schyst bibliotek som handlar om inkluderande kommunikation.</p>

<p><strong>Program:</strong></p>

<p>9-9.05 Välkommen / AKE Borgå&nbsp;&nbsp;</p>

<p>9.05-9.35&nbsp;<strong>Helen Kurri, chefredaktör för Östnyland:</strong>&nbsp;Kommunikation ur mediernas synvinkel&nbsp;&nbsp;</p>

<p>9.35-10.20&nbsp;<strong>Linn Jung, medieproducent, bloggare:</strong>&nbsp;Påverka och personifiera – så skapar du ett flöde som fler vill följa&nbsp;</p>

<p>10.20-10.30 Paus&nbsp;&nbsp;</p>

<p>10.30-10.50&nbsp;<strong>Leena Pylkkö, filosofie licentiat, företagare:</strong>&nbsp;Bibliotekets marknadsföring i Liboppi&nbsp;&nbsp;</p>

<p>10.50-11.15&nbsp;<strong>Johanna Häggblom, Nykarleby bibliotek:</strong>&nbsp;Biblioteket på sociala medier: Exempel från Nykarleby</p>

<p>11.15-12.00 Jämställd och inkluderande kommunikation – Schyst bibliotek&nbsp;&nbsp;</p>

<p><strong>Mer information och anmälan:</strong></p>

<p>Anmäl dig senast 27.4 <a href="https://link.webropolsurveys.com/EP/7199741FB4E694E5">via denna länk</a>. Du får länken till webbinariet när anmälningstiden är slut.</p>

<p>&nbsp;</p>

LOCATION:Teams
END:VEVENT
END:VCALENDAR