BEGIN:VCALENDAR
VERSION:2.0
PRODID:-//kirjastotfi/procal//NONSGML v1.0//EN
BEGIN:VEVENT
DTSTART:20220413T130000
DTEND:20220413T140000
SUMMARY: Mot ett e-bibliotek med ”allt i en lucka”
DESCRIPTION:<p>Kom och höra på aktuell information och diskutera om<a href="https://www.biblioteken.fi/ebiblioteksprojektet?language_content_entity=sv"> e-biblioteksprojektet </a>på svenska onsdagen 13.4 . Informationstillfällena ordnas i Teams och de har samma innehåll, du kan alltså delta i vilketdera som helst. På plats är projektexperterna Seija Laitinen-Kuisma och Marjo Haatainen från e–biblioteksprojektet. Informatiker Tina Wigg från Helsingfors stadsbibliotek presenterar e-biblioteksprojektet på svenska och tolkar diskussionen.&nbsp;</p>

<p>Teams-länkar till informationstillfällena:</p>

<p><a href="https://teams.microsoft.com/l/meetup-join/19%3ameeting_MTE0ZTU4YjQtZmMxZC00MmRmLWE5YjMtZTZjYzZiYTEyNjM4%40thread.v2/0?context=%7b%22Tid%22%3a%223feb6bc1-d722-4726-966c-5b58b64df752%22%2c%22Oid%22%3a%2209f2bccf-fc8c-4a5f-b54b-70a7ef947474%22%7d">ons&nbsp;13.4&nbsp;kl.&nbsp;13–14</a>&nbsp;</p>

<p><a href="https://teams.microsoft.com/l/meetup-join/19%3ameeting_MjNhNTNjODUtMDlkZS00OWZmLTk4NzgtNWI4MDAwMWU3ODBl%40thread.v2/0?context=%7b%22Tid%22%3a%223feb6bc1-d722-4726-966c-5b58b64df752%22%2c%22Oid%22%3a%2209f2bccf-fc8c-4a5f-b54b-70a7ef947474%22%7d">ons 20.4 kl.&nbsp;13–14</a>&nbsp;OBS! INHIBERAT!! Ny tidpunkt meddelas senare</p>

LOCATION:Teams
END:VEVENT
END:VCALENDAR