BEGIN:VCALENDAR
VERSION:2.0
PRODID:-//kirjastotfi/procal//NONSGML v1.0//EN
BEGIN:VEVENT
DTSTART:20220315T093000
DTEND:20220315T110000
SUMMARY:Biblioteket som främjare av aktivt medborgarskap, demokrati och yttrandefrihet
DESCRIPTION:<p>Regionförvaltningsverket arrangerar ett svenskspråkigt informations- och diskussionstillfälle om bibliotekens samhälleliga roll utgående från resultaten i befolkningsenkäten <em>Biblioteket som främjare av demokrati,</em> som RFV publicerade i slutet av 2021. Resultaten i enkäten hittas på RFV:s webbsida:&nbsp;<a href="https://avi.fi/sv/om-oss/var-verksamhet/vi-publicerar-information/biblioteksstatistik">https://avi.fi/sv/om-oss/var-verksamhet/vi-publicerar-information/biblioteksstatistik</a>.&nbsp;</p>

<p>Hur syns demokratin i bibliotekens verksamhet? Vad får vi veta om unga vuxnas och icke-användares synpunkter på bibliotekens verksamhet och demokratiska uppdrag? Vilken betydelse kan resultaten få för verksamheten i ditt bibliotek? Vilka utvecklingsidéer för tjänsterna?</p>

<p>Kom och diskutera tankar och idéer med dina bibliotekskolleger!</p>

LOCATION:Microsoft Teams
END:VEVENT
END:VCALENDAR