BEGIN:VCALENDAR
VERSION:2.0
PRODID:-//kirjastotfi/procal//NONSGML v1.0//EN
BEGIN:VEVENT
DTSTART:20220311T090000
DTEND:20220311T120000
SUMMARY:Informationsledning på bibliotek - del 2
DESCRIPTION:<p><strong>Kursen består av två delar. <a href="https://www.biblioteken.fi/ammattikalenteri/kurser-och-utbildning/informationsledning-pa-bibliotek-del-1-1">Del 1 8.3 kl. 13-16</a> och del 2 11.3 kl. 9-12. Du anmäler dig samtidigt till båda delarna.</strong><br />
En stor del av ledarskap i dag går ut på att använda sig av information och kunskap. För att kunna göra det effektivt och strategiskt finns det verktyg och metoder.&nbsp;<br />
Informationsledning (på finska “tietojohtaminen”) handlar om att strategiskt hantera den information och kunskap som finns och uppkommer inom olika slags organisationer.<br />
Kursen innehåller bl.a.:&nbsp;</p>

<ul>
	<li>informationens och kunskapens roll i organisationer&nbsp;</li>
	<li>vikten av strategisk ledning av information&nbsp;</li>
	<li>vanliga begrepp och modeller för informationsledning och kunskapsstyrning (Knowledge Management)&nbsp;&nbsp;</li>
	<li>organisationskultur och organisatoriskt lärande&nbsp;</li>
	<li>verktyg och metoder för informationsledning&nbsp;</li>
	<li>sätt att samla in, organisera och dela kunskap i en organisation&nbsp;</li>
</ul>

<p>Kursen leds av docent Kristina Eriksson-Backa, akademilektor i informationsvetenskap vid Åbo Akademi. Kristina har undervisat i ämnet Informationsledning på olika nivåer sedan 2015</p>

LOCATION:Microsoft Teams
END:VEVENT
END:VCALENDAR