BEGIN:VCALENDAR
VERSION:2.0
PRODID:-//kirjastotfi/procal//NONSGML v1.0//EN
BEGIN:VEVENT
DTSTART:20220121T100000
DTEND:20220121T113000
SUMMARY:Publiceringsevenemang : Framtidens toner – musikbibliotekens potential 
DESCRIPTION:<p><strong>Framtidens toner – musikbibliotekens potential handbok och digitalt escape room-spel</strong></p>

<p>Utvecklingsbiblioteken i Birkaland och Mellersta Finland (AKE Tammerfors) samt Södra Österbotten, Österbotten och Mellersta Österbotten (AKE Vasa) har gett ut en handbok och ett escape room-spel om bibliotekens musikkunskaper. Detta är den fjärde handboken som publiceras av Birkaland och Mellersta Finlands utvecklingsbibliotek. Det digitala escape room -spelet är det första i sitt slag och ett unikt sätt att lära sig något nytt.</p>

<p>Utgivningen av den nya handboken och spelet kommer att firas via ett Teams-evenemang som är öppet för alla fredagen <strong>den 21 januari. kl. 10.00-11.30</strong>. <a href="https://teams.microsoft.com/l/meetup-join/19%3ameeting_YTc2YmExOWUtNmU0Ni00NTEyLWE5YjMtNTYwZTcxNzkzNjMx%40thread.v2/0?context=%7b%22Tid%22%3a%22dde5dc12-bd3c-4c06-85cc-34361efe9ad4%22%2c%22Oid%22%3a%22a6e6c490-5ad0-485c-ab96-2cb7bbc5f56a%22%7d">&nbsp;Du kan delta i eventet utan att föranmäla dig med denna Teams-länk.</a></p>

<p>Mera information om handboken och escape room –spelet hittar du på: <a href="https://www.biblioteken.fi/ammattikalenteri/verktyg-for-bibliotek-och-nationella/framtidens-toner-handbok-och-digitalt?language_content_entity=sv">https://www.biblioteken.fi/ammattikalenteri/verktyg-for-bibliotek-och-nationella/framtidens-toner-handbok-och-digitalt?language_content_entity=sv</a></p>

<p>&nbsp;</p>

<p><strong>Välkommen med!</strong></p>

LOCATION:Teams
END:VEVENT
END:VCALENDAR