BEGIN:VCALENDAR
VERSION:2.0
PRODID:-//kirjastotfi/procal//NONSGML v1.0//EN
BEGIN:VEVENT
DTSTART:20211202T123000
DTEND:20211202T160000
SUMMARY:Barns rättighet att påverka - vuxnas ansvar att möjliggöra 
DESCRIPTION:<p>Barnombudsmannen gjorde ett ställningstagande i sin årsberättelse: “Barnens rätt&nbsp;att påverka ska främjas”.</p>

<p>I Finland har vi en god lagstiftningsmässig grund för barnens delaktighet och påverkan, men verkställandet lämnar mycket att önska. Barnens påverkan i samhället stärks i huvudsak vuxencentrerat och genom strukturer som medför delaktighet och representativ delaktighet. Rättigheten att framföra sin åsikt och påverka ska tillgodoses även i vardagen, dvs. där barn och unga normalt finns.&nbsp;</p>

<p>Under denna fortbildning presenterar barnombudsman Elina Pekkarinen, professor Elina Pirjatanniemi, universitetslektor Marina Lundkvist och jurist Thomas Sundell kunskap och synpunkter kring hur vi kan öka barns och ungas delaktighet och ge dem större möjligheter att påverka.</p>

<p>Mål:</p>

<p>Att som vuxen</p>

<ul>
	<li>ta barns och ungas rätt att påverka på allvar&nbsp;</li>
	<li>se till att barn och unga får/har tillräckligt med information&nbsp;</li>
	<li>skapa möjligheter för barn och unga att vara delaktiga och påverka&nbsp;</li>
	<li>använda&nbsp;informationen man får av barnen och de unga&nbsp;så att&nbsp;den&nbsp;påverkar&nbsp;verksamheten</li>
</ul>

<p>Målgrupper: Personal och ledande tjänstemän inom småbarnspedagogik, undervisning och bibliotek<br />
<br />
Välkommen!</p>

LOCATION:Teams
END:VEVENT
END:VCALENDAR