BEGIN:VCALENDAR
VERSION:2.0
PRODID:-//kirjastotfi/procal//NONSGML v1.0//EN
BEGIN:VEVENT
DTSTART:20211014T130000
DTEND:20211014T160000
SUMMARY:Desinformation och polarisering - Hur kan du motverka det? 
DESCRIPTION:<p>En&nbsp;infodemi&nbsp;– en ryktesepidemi – har uppstått parallellt med&nbsp;coronapandemin&nbsp;och falska nyheter.&nbsp;</p>

<p>Vad är desinformation och informationspåverkan? Vad är skillnaden mellan missinformation och desinformation? Och vilken är skolans eller bibliotekets roll i att motverka polarisering i samhället?&nbsp;</p>

<p>Under&nbsp;webbinariet&nbsp;ökar vi vår förståelse&nbsp;för&nbsp;informationspåverkan och&nbsp;polarisering som fenomen och förståelsen för hur vi kan påverka polariseringens dynamik.&nbsp;</p>

<p>Medverkande: rättspsykolog Tom Pakkanen, Åbo Akademi, akademiforskare Anna Soveri och doktorand Linda Karlsson, Åbo universitet samt filosof Bart Bransma, Inside&nbsp;Polarisation&nbsp;(på&nbsp;engelska).</p>

<p>Moderator: innehållschef Jonas Jungar, Svenska Yle.</p>

LOCATION:Microsoft Teams
END:VEVENT
END:VCALENDAR