BEGIN:VCALENDAR
VERSION:2.0
PRODID:-//kirjastotfi/procal//NONSGML v1.0//EN
BEGIN:VEVENT
DTSTART:20211005T123000
DTEND:20211005T160000
SUMMARY:Små barn i en digital värld - nylitteracitet, samspel och forskningsbaserad kunskap 
DESCRIPTION:<p>Frågor kring digital teknologi och små barn väcker mycket debatt i medierna och bland professionella som jobbar med barn. Under denna fortbildning får du mer kunskap om ämnet och konkreta idéer för arbetet. &nbsp;</p>

<p><strong>Anett Sundqvist </strong>(leg. logoped, bitr. professor vid Linköpings universitet) berättar om pågående forskning om hur digitala medier påverkar barn i daghemsåldern. &nbsp;</p>

<p><strong>Alexandra Nordström</strong> (doktorand&nbsp;vid Pedagogiska fakulteten, Helsingfors universitet) presenterar Utbildningsstyrelsens projekt Nylitteracitet och kopplar till den småbarnspedagogiska verksamheten. &nbsp;</p>

<p>Vi avslutar med konkreta tips för läsande som språkstöd&nbsp;med bibliotekspedagogerna&nbsp; <strong>Anna-Maija Koskimies </strong>och <strong>Lena Sågfors</strong>, som också fungerar som nationella koordinatorer för bibliotekens tjänster för barns och ungas läsande och läskunnighet.&nbsp;</p>

LOCATION:Microsoft Teams
END:VEVENT
END:VCALENDAR