BEGIN:VCALENDAR
VERSION:2.0
PRODID:-//kirjastotfi/procal//NONSGML v1.0//EN
BEGIN:VEVENT
DTSTART:20211012T090000
DTEND:20211012T120000
SUMMARY:Webbinarieserien Tre dimensioner av demokrati och bibliotek: Del 3. Aktivt medborgarskap
DESCRIPTION:<p>Välkommen att delta i del 3 av regionförvaltningsverkets webbinarieserie&nbsp;<strong>Tre dimensioner av&nbsp;demokrati och bibliotek: Aktivt medborgarskap</strong></p>

<p>I&nbsp;webbinarieserien&nbsp;tar vi fasta på de tre dimensionerna&nbsp;<strong>bildning, yttrandefrihet och aktivt medborgarskap</strong>&nbsp;som nära anknyter till de allmänna bibliotekens demokratiuppdrag.</p>

<p>Målsättningen är att erbjuda en bred personalgrupp inspiration och kunskap för uppdraget.&nbsp;&nbsp;</p>

<p>Serien består av tre fristående&nbsp;webbinarier.</p>

<p>Det tredje&nbsp;webbinariet&nbsp;fokuserar på hur&nbsp;vi&nbsp;kan stöda utvecklingen av&nbsp;det&nbsp;demokratiska&nbsp;samhället genom att främja förutsättningarna för ett aktivt medborgarskap och&nbsp;olika gruppers möjligheter till samhällspåverkan. Vilka är förutsättningarna och möjligheterna&nbsp;i vår tid&nbsp;för en mer direkt delaktighet?&nbsp;Hur kan delaktigheten främjas i&nbsp;det offentliga rummet&nbsp;-&nbsp;biblioteket?&nbsp;</p>

<p>Talare&nbsp;är&nbsp;professorn&nbsp;och&nbsp;medborgaraktivisten&nbsp;<strong>Thomas Wallgren,</strong>&nbsp;forskaren&nbsp;<strong>Georg&nbsp;</strong><strong>Boldt</strong>,&nbsp;coachen <strong>Päivi Jokitalo&nbsp;</strong>och&nbsp;forskardoktorn&nbsp;<strong>Annika&nbsp;</strong><strong>Pastunov</strong><strong>.&nbsp;</strong>Sist&nbsp;men&nbsp;inte&nbsp;minst&nbsp;dryftar&nbsp;författaren&nbsp;<strong>Tatjana Brandt</strong>&nbsp;den&nbsp;engagerande&nbsp;frågan,&nbsp;blir&nbsp;man&nbsp;en&nbsp;bättre&nbsp;människa&nbsp;av&nbsp;att&nbsp;läsa&nbsp;böcker?&nbsp;&nbsp;</p>

<p>Del 1 och del 2 av webbinarieserien ordnas:</p>

<p>14.9.2021 kl. 9-12: Tre dimensioner av demokrati och bibliotek: Bildning&nbsp;</p>

<p>28.9.2021 kl. 9-12: Tre dimensioner av demokrati och bibliotek: Yttrandefrihet&nbsp;</p>

<p>Anmälan till alla tre webbinarierna öppnas 2.8.2021.</p>

<p>Webbinarierna&nbsp;är en del av regionförvaltningsverkets projekt för att utveckla allmänna bibliotek som forum för dialog mellan medborgare och beslutsfattare.&nbsp;</p>

LOCATION:Teams
END:VEVENT
END:VCALENDAR