BEGIN:VCALENDAR
VERSION:2.0
PRODID:-//kirjastotfi/procal//NONSGML v1.0//EN
BEGIN:VEVENT
DTSTART:20210928T090000
DTEND:20210928T120000
SUMMARY:Webbinarieserien Tre dimensioner av demokrati och bibliotek: Del 2 Yttrandefrihet
DESCRIPTION:<p>Välkommen att delta i del 2 av regionförvaltningsverkets webbinarieserie&nbsp;<strong>Tre dimensioner av&nbsp;demokrati och bibliotek: Yttrandefrihet</strong></p>

<p>I&nbsp;webbinarieserien&nbsp;tar vi fasta på de tre dimensionerna&nbsp;<strong>bildning, yttrandefrihet och aktivt medborgarskap</strong>&nbsp;som nära anknyter till de allmänna bibliotekens demokratiuppdrag. Målsättningen är att erbjuda en bred personalgrupp inspiration och kunskap för uppdraget.&nbsp;&nbsp;</p>

<p>Serien består av tre fristående&nbsp;webbinarier.</p>

<p>I det andra&nbsp;webbinariet&nbsp;behandlar vi&nbsp;yttrandefriheten och&nbsp;den samhälleliga dialogen. Yttrandefriheten har&nbsp;alltid&nbsp;varit en av grundstenarna i bibliotekens verksamhet och existens. Men hur är det i dag, hur påverkas demokratin&nbsp;och yttrandefriheten&nbsp;av hatretorik och desinformation?&nbsp;Vilket är förhållandet mellan censur och yttrandefrihet?&nbsp;&nbsp;</p>

<p>Som föreläsare deltar författare och tidigare överbibliotekarie vid Nationalbiblioteket,&nbsp;<strong>Kai Ekholm,</strong> och&nbsp;Maria Swanljung, kommunikationschef på Diskrimineringsombudsmannens byrå.&nbsp;</p>

<p>I&nbsp;webbinariets&nbsp;senare del&nbsp;fokuserar vi på dialogen&nbsp;med&nbsp;DialogAkademins&nbsp;utbildare&nbsp;<strong>Nina&nbsp;</strong><strong>Hongell</strong><strong>-Ekholm</strong>. Vad gör det möjligt att föra dialog i det offentliga rummet? Hur påverkas dialogen av biblioteket som plats och att diskussionerna förs av personer med olika synvinklar, t.ex. beslutsfattare och medborgare? Helheten består av inledning, tidigare erfarenheter av demokrati- och dialog-diskussioner samt smågruppsdiskussioner. Syftet är att fördjupa sig i ämnet och reflektera kring hur man i det egna biblioteket kan starta dialoger.</p>

<p>Del 1 och del 3 av webbinarieserien ordnas:</p>

<p>14.9.2021 kl. 9-12: Tre dimensioner av demokrati och bibliotek: Bildning&nbsp;</p>

<p>12.10.2021 kl. 9-12: Tre dimensioner av demokrati och bibliotek: Aktivt medborgarskap&nbsp;</p>

<p>Anmälan till alla tre webbinarierna öppnas 2.8.2021.</p>

<p>Webbinarierna&nbsp;är en del av regionförvaltningsverkets projekt för att utveckla allmänna bibliotek som forum för dialog mellan medborgare och beslutsfattare.&nbsp;</p>

LOCATION:Teams
END:VEVENT
END:VCALENDAR