BEGIN:VCALENDAR
VERSION:2.0
PRODID:-//kirjastotfi/procal//NONSGML v1.0//EN
BEGIN:VEVENT
DTSTART:20210914T090000
DTEND:20210914T120000
SUMMARY:Webbinarieserien Tre dimensioner av demokrati och bibliotek: Del 1. Bildning 
DESCRIPTION:<p>Välkommen att delta i del 1 av regionförvaltningsverkets webbinarieserie&nbsp;<strong>Tre dimensioner av&nbsp;demokrati och bibliotek: Bildning</strong><strong>&nbsp;</strong></p>

<p>I&nbsp;webbinarieserien&nbsp;tar vi fasta på de tre dimensionerna&nbsp;<strong>bildning, yttrandefrihet och aktivt medborgarskap</strong>&nbsp;som nära anknyter till de allmänna bibliotekens demokratiuppdrag. Målsättningen är att erbjuda en bred personalgrupp inspiration och kunskap för uppdraget.&nbsp;&nbsp;</p>

<p>Serien består av tre fristående&nbsp;webbinarier.</p>

<p>I det första&nbsp;webbinariet&nbsp;frågar vi: Vad är bildning&nbsp;idag&nbsp;och&nbsp;vad betyder&nbsp;det&nbsp;för det&nbsp;demokratiska omdömet? Inledande föreläsare är&nbsp;<strong>Sverker Sörlin</strong>, svensk idéhistoriker, författare och professor i miljöhistoria vid KTH. För två av sina böcker har han mottagit Augustpriset. Föreläsningen anknyter till boken&nbsp;<em>Till bildningens försvar: den svåra konsten att veta tillsammans</em>&nbsp;(2019), om vilken han diskuterar med författaren och bibliotekarien&nbsp;<strong>Mathias Rosenlund</strong>.&nbsp;&nbsp;</p>

<p>Vad har bildning för betydelse och roll i vardagen och vad har läsning med demokrati att göra?&nbsp;Frågorna&nbsp;ventileras&nbsp;av&nbsp;<strong>Jonas Ahlskog</strong>,&nbsp;postdoktoral&nbsp;forskare&nbsp;och projektledare&nbsp;och&nbsp;<strong>Hannele Mikaela&nbsp;</strong><strong>Taivassalo</strong>, författare och ordförande för Finlands svenska&nbsp;författareförening.&nbsp;</p>

<p>Del 2 och del 3 av webbinarieserien ordnas:</p>

<p>28.9.2021 kl. 9-12: Tre dimensioner av demokrati och bibliotek: Yttrandefrihet&nbsp;</p>

<p>12.10.2021 kl. 9-12: Tre dimensioner av demokrati och bibliotek: Aktivt medborgarskap&nbsp;</p>

<p>Anmälan till alla tre webbinarierna öppnas 2.8.2021.</p>

<p>Webbinarierna&nbsp;är en del av regionförvaltningsverkets projekt för att utveckla allmänna bibliotek som forum för dialog mellan medborgare och beslutsfattare.&nbsp;</p>

LOCATION:Teams
END:VEVENT
END:VCALENDAR