BEGIN:VCALENDAR
VERSION:2.0
PRODID:-//kirjastotfi/procal//NONSGML v1.0//EN
BEGIN:VEVENT
DTSTART:20210916T113000
DTEND:20210916T160000
SUMMARY:Förhandsinformation: Läsfest 2021
DESCRIPTION:<p>Förhandsinformation: Det riksomfattande specialuppdraget Erte som främjar barn och ungas läsande och läskunnighet vid Seinäjoki stadsbibliotek ordnar i september ett Lukulystit / Läsfest-webbinarium. Man kommer att bjuda på mycket intressanta projektpresentationer, metoder och kampanjer från Finland och från flera andra länder. Webbinariet har innehåll på finska 15.9, och på svenska 16.9. Mer information om programmet delges i augusti.</p>

LOCATION:
END:VEVENT
END:VCALENDAR