BEGIN:VCALENDAR
VERSION:2.0
PRODID:-//kirjastotfi/procal//NONSGML v1.0//EN
BEGIN:VEVENT
DTSTART:20211111T090000
DTEND:20211111T160000
SUMMARY:Förhandsinfo: 1111 digievenemanget Källan till rätt information
DESCRIPTION:<p>Höstens digievenemang&nbsp;kommer igen! I år är ämnet källkritik, att hitta information och rätt information i allmänhet - passligt för Temaåret för forskningsbaserad kunskap. Programmet är tvåspråkigt!</p>

<p>Evenemanget är öppet för alla och förstås gratis. Program kommer senare, men det löns redan nu att sätta datumet i kalendern!</p>

<p>Välkommen med!</p>

LOCATION:i Zoom
END:VEVENT
END:VCALENDAR