BEGIN:VCALENDAR
VERSION:2.0
PRODID:-//kirjastotfi/procal//NONSGML v1.0//EN
BEGIN:VEVENT
DTSTART:20210521T120000
DTEND:20210521T150000
SUMMARY:Nyländska bibliotekens sommardag
DESCRIPTION:<h2>Välkommen till de nyländska bibliotekens sommardag!</h2>

<p>De nyländska bibliotekens sommardag är en träff för hela områdets bibliotekspersonal. Under dagen presenteras intressanta projekt från Nylands bibliotek. Dessutom får vi en uppdatering om vad som är aktuellt på biblioteksfältet. Som specialgäst har vi författaren Sanna Tahvanainen som berättar on sitt förhållande till biblioteken och läsande.</p>

<p>Ingen inspelning. Endast direktsändning</p>

<h2>Program</h2>

<p>12.00 Tervetulosanat Välkomstord AKE-Borgå</p>

<p>12.15&nbsp; Mitt livs bibliotek. Sanna Tahvanainen</p>

<p>13.00. Osallistuvaa strategiatyötä Vantaan kaupunginkirjastossa. Katariina Ervasti berättar</p>

<p>13.30. Demokratimiljonen!? Vad handlar det nu riktigt om? Regi0nförvaltningsverkets Anu Ojaranta berättar.</p>

<p>14.00 &nbsp;Rakas – Ratamo- ja Kirkes-kirjastojen yhteistyön syventäminen. Anu Sorvali Nurmijärveltä berättar om planerna</p>

<p>14.20 &nbsp;Digimediaprojektet. Hela landets gemensamma e-bibliotek. Vad handlar det om och vad är läget ? Aija Laine från det nationella utvecklingsuppdraget informerar</p>

<p>15.00 Lopetus Avslutning</p>

<h2>Anmälningar</h2>

<p>Anmälningar via länken nedan senast den 20 maj. Länken till mötet skickas till de som har anmält sig.</p>

<p><a href="https://link.webropolsurveys.com/S/8C0C4513CEF3FE46">https://link.webropolsurveys.com/S/8C0C4513CEF3FE46</a></p>

LOCATION:Teams
END:VEVENT
END:VCALENDAR