BEGIN:VCALENDAR
VERSION:2.0
PRODID:-//kirjastotfi/procal//NONSGML v1.0//EN
BEGIN:VEVENT
DTSTART:20210521T120000
DTEND:20210521T150000
SUMMARY:Förhandsanmälan: den nyländska bibliotekens sommardag
DESCRIPTION:<p><strong>Välkommen till den nyländska bibliotekens sommardag!</strong></p>

<p>Den nyländska bibliotekens sommardag är en träff för hela områdets bibliotekspersonal där du kan diskutera vad som är aktuellt med kolleger och få nya idéer för ditt arbete. Under dagen presenteras intressanta projekt från Nylands bibliotek. Dessutom får vi en uppdatering om vad son är aktuellt på biblioteksfältet.<br />
Det slutliga programmet publiceras senare.<br />
&nbsp;</p>

<p><strong>Anmälningar</strong></p>

<p>Anmälningar via länken nedan senast den 17 maj. Länken till mötet ska skickas senare.</p>

<p><a href="https://link.webropolsurveys.com/S/8C0C4513CEF3FE46">https://link.webropolsurveys.com/S/8C0C4513CEF3FE46</a></p>

LOCATION:
END:VEVENT
END:VCALENDAR