BEGIN:VCALENDAR
VERSION:2.0
PRODID:-//kirjastotfi/procal//NONSGML v1.0//EN
BEGIN:VEVENT
DTSTART:20200826T130000
DTEND:20200826T160000
SUMMARY:Webbinariet Uppväxt och lärande på en språkö
DESCRIPTION:<p><span><span><span><span><span><span><span><span><span><span><span>Lärstigen på språköarna är en speciell och viktig del av utbildningen i Finland. Vi samlas till webbinarium för att begrunda lärandet i en flerspråkig miljö och hitta språkstärkande upplägg. Webbinariet i augusti följs upp av ett seminarium i Helsingfors 14.1.2021. Kom med för att få inspiration och stöd i ditt arbete på en språkö!</span></span></span></span></span></span></span></span></span></span></span></p>

<p><span><span><span><span><span><span><span><span><span><span><strong><span>Mål:</span></strong></span></span></span></span></span></span></span></span></span></span></p>

<p><span><span><span><span><span><span><span><span><span><span><span>- få ny kunskap i språköarnas pedagogik</span></span></span></span></span></span></span></span></span></span></span></p>

<p><span><span><span><span><span><span><span><span><span><span><span>- hitta språkstärkande upplägg</span></span></span></span></span></span></span></span></span></span></span></p>

<p><span><span><span><span><span><span><span><span><span><span><span lang="NO-NYN">- utveckla samarbetet pedagogik-bibliotek</span></span></span></span></span></span></span></span></span></span></span></p>

<p><span><span><span><span><span><span><span><span><span><span><span><strong>Målgrupp</strong>:&nbsp;<span>Personal i daghem, skola och bibliotek på språköarna samt övriga intresserade</span>.</span></span></span></span></span></span></span></span></span></span></span></p>

<p><span><span><span><span><span><span><span><span><span><span><span><strong><a href="https://spark.adobe.com/page/LF7I8BpWWjkA0/">Inbjudan och program</a></strong></span></span></span></span></span></span></span></span></span></span></span></p>

<p><span><span><span><span><span><span><span><span><span><span><span><strong><span>Anmälan:</span></strong><span>&nbsp;<a href="https://link.webropolsurveys.com/Participation/Public/0307ddc4-96c4-4b11-bc03-6f378a3f5b55?displayId=Fin1995804"><span>Anmäl dig via denna länk</span></a>&nbsp;senast fredag 21.8.2020.</span></span></span></span></span></span></span></span></span></span></span></span></p>

<p><span><span><span><span><span><span><span><span><span><span><span><strong>Kostnader</strong>: Fortbildningen är avgiftsfri.</span></span></span></span></span></span></span></span></span></span></span></p>

<p><span><span><span><span><span><span><span><span><span><span><strong><span lang="SV-FI">Kontakt:</span></strong></span></span></span></span></span></span></span></span></span></span></p>

<p><span><span><span><span><span><span><span><span><span><span>Om programmet: Överinspektör Disa Widell,&nbsp;<a href="mailto:disa.widell@avi.fi"><span>disa.widell@avi.fi</span></a>, tfn 0295 018 621<br />
Om anmälan och annullering: Planerare Cecilia Ekqvist,&nbsp;<a href="mailto:cecilia.ekqvist@avi.fi"><span>cecilia.ekqvist@avi.fi</span></a>, tfn 0295 016&nbsp;451</span></span></span></span></span></span></span></span></span></span><br />
<span><span><span><span><span><span><span><span><span><span>Om anslutning och teknik: IKT-pedagog Fredrik Åman,&nbsp;<span lang="SV-FI"><a href="mailto:fredrik.aman@avi.fi"><span lang="NO-NYN">fredrik.aman@avi.fi</span></a></span>, tfn 0295 018&nbsp;619</span></span></span></span></span></span></span></span></span></span></p>

LOCATION:
END:VEVENT
END:VCALENDAR