BEGIN:VCALENDAR
VERSION:2.0
PRODID:-//kirjastotfi/procal//NONSGML v1.0//EN
BEGIN:VEVENT
DTSTART:20200305T093000
DTEND:20200305T150000
SUMMARY:Välkommen på fortbildningen Kreativ kommunikation: presentationer och bokprat på ett naturligt sätt
DESCRIPTION:<p><span><span><span><span><span><span><span><span><span><span><span><span><span><span><span><span><span lang="SV"><span>Vill du utveckla din förmåga att hålla tal, presentationer och bokprat på ett naturligt sätt? Känna dig trygg, bekväm och närvarande inför publik? Få kunskap och insikter som bidrar till effektiv, tydlig och inspirerande kommunikation? Vi bjuder på en heldagskurs om bland annat röstanvändning och kroppskännedom</span></span>&nbsp;<span lang="SV"><span>med teaterpedagog&nbsp;<strong>Nina Dahl-Tallgren&nbsp;</strong>på Wasa Teater.</span></span></span></span></span></span></span></span></span></span></span></span></span></span></span></span></span></span></p>

<p><span><span><span><span><span><span><span><span><span><span><span><span><span><span><span><span><strong>Tid</strong>: 5.3.2020, kl. 9:30-15.00 (morgonkaffe från kl. 9:00)</span></span></span></span></span></span></span></span></span></span></span></span></span></span></span></span><span><span><span><span><span><span><span><span><span><span><span><span><span><span><span><span>:</span></span></span></span></span></span></span></span></span></span></span></span></span></span></span></span></p>

<p><strong>Målgrupp</strong>: Bibliotekspersonal och andra intresserade</p>

<p><span><span><span><span><span><span><span><span><span><span><span><span><span><span><span><span><span><strong><a href="http://www.avi.fi/documents/10191/15291639/5.3.20_Kreativ_kommunikation/85483ef9-548f-4548-8e62-0b7183b8c4e6">Programmet</a>&nbsp;</strong>för fortbildningen</span></span></span></span></span></span></span></span></span></span></span></span></span></span></span></span></span></p>

<p><span><span><span><span><span><span><span><span><span><span><span><span><span><span><span><span><strong><a href="https://link.webropolsurveys.com/Participation/Public/6f1dcfb4-d1a2-4a79-b38a-dda4021912f7?displayId=Fin1928335">Anmälan</a></strong>&nbsp;till fortbildningen. Anmäl dig&nbsp;<strong>senast 26.2.2020</strong>.</span></span></span></span></span></span></span></span></span></span></span></span></span></span></span></span></p>

<p>&nbsp;</p>

<p>&nbsp;</p>

LOCATION:Wasa Teater, rum Glaset, Sandögatan 7
END:VEVENT
END:VCALENDAR