BEGIN:VCALENDAR
VERSION:2.0
PRODID:-//kirjastotfi/procal//NONSGML v1.0//EN
BEGIN:VEVENT
DTSTART:20200323T080000
DTEND:20200324T235555
SUMMARY:Marskonferensen: Kan innehålla spår av lärande – Biblioteket som kunskapsförmedlare
DESCRIPTION:<p>Årets Marskonferensen har rubriken&nbsp;<strong>Kan innehålla spår av lärande – Biblioteket som kunskapsförmedlare</strong> och äger rum 23-24 mars 2020, på SLU - Sveriges lantbruksuniversitet, Umeå.</p>

<p>På programmet i år finns bland annat filosofie doktor i pedagogik Håkan Fleischer som ska prata om hur du kan skapa goda förutsättningar för det pedagogiska mötet. Skolbibliotekarie Monika Staub Halling föreläser om sin roll i barns och ungas lärande. Stefan Lundström, biträdande professor i Svenska med didaktisk inriktning vid Luleå tekniska universitet kommer att berätta om sin forskning med särskilt fokus på lärandeaspekter kring berättande texter i olika medier, exempelvis litteratur, spel och film.&nbsp;</p>

<p>Anna Tebelius Bodin är en uppskattad föreläsare som tar med oss på en resa runt inlärning och hjärnan.&nbsp;Grafiska formgivaren Maria Persson presenterar ’Dagens dam’, om spännande historiska kvinnor.&nbsp;Det blir möjlighet till studiebesök och under rubriken ’Bibliotekssverige berättar’ blir det olika spännande perspektiv från kollegor ute i landet och mycket mer.</p>

LOCATION:SLU - Sveriges lantbruksuniversitet
END:VEVENT
END:VCALENDAR